BEGIN:VCALENDAR
VERSION:2.0
PRODID:gruene-rutesheim.de
METHOD:PUBLISH
BEGIN:VTIMEZONE
TZID:Europe/Berlin
X-LIC-LOCATION:Europe/Berlin
BEGIN:DAYLIGHT
TZOFFSETFROM:+0100
TZOFFSETTO:+0200
TZNAME:CEST
DTSTART:19700329T020000
RRULE:FREQ=YEARLY;INTERVAL=1;BYDAY=-1SU;BYMONTH=3
END:DAYLIGHT
BEGIN:STANDARD
TZOFFSETFROM:+0200
TZOFFSETTO:+0100
TZNAME:CET
DTSTART:19701025T030000
RRULE:FREQ=YEARLY;INTERVAL=1;BYDAY=-1SU;BYMONTH=10
END:STANDARD
END:VTIMEZONE
BEGIN:VEVENT
UID:b78c68fb31a231e50fc890ca130047b9@gruene-rutesheim.de
URL;VALUE=URI:https://gruene-rutesheim.de/termine/kundgebung-fuer-demokra
 tie-und-menschenrechte/
LOCATION:Rahausvorplatz, Leonberger Straße 15, Rutesheim
SUMMARY:Kundgebung „Für Demokratie und Menschenrechte“
DESCRIPTION;ALTREP="data:text/html,%0A%3Ch2%20class%3D%22wp-block-heading
 %22%20id%3D%22anker22894051%22%3E%3C%2Fh2%3E%0A%0A%0A%0A%3Ch3%20class%3D%
 22wp-block-heading%22%20id%3D%22anker23043100%22%3E%2275%20Jahre%20Grundg
 esetz%22%20in%20Rutesheim%3C%2Fh3%3E%0A%0A%0A%0A%3Cp%20id%3D%22anker22894
 052%22%3E%3C%2Fp%3E%0A%0A%0A%0A%3Cp%20id%3D%22anker23043213%22%3EWir%20la
 den%20die%20Rutesheimer%20B%C3%BCrgerinnen%20und%20B%C3%BCrger%20herzlich
 %20zu%20einer%20Kundgebung%20vor%20dem%20Rutesheimer%20Rathaus%20am%20Son
 ntag%2C%2013.10.2024%20um%2011%3A30%20Uhr%20ein.%3C%2Fp%3E%0A%0A%0A%0A%3C
 p%3E%3C%2Fp%3E%0A":"75 Jahre Grundgesetz" in Rutesheim\n\nWir laden die R
 utesheimer Bürgerinnen und Bürger herzlich zu einer Kundgebung vor dem 
 Rutesheimer Rathaus am Sonntag\, 13.10.2024 um 11:30 Uhr ein.
CLASS:PUBLIC
DTSTART;TZID=Europe/Berlin:20241013T113000
DTEND;TZID=Europe/Berlin:20241013T120000
DTSTAMP:20260422T103305
END:VEVENT
END:VCALENDAR