BEGIN:VCALENDAR
VERSION:2.0
PRODID:gruene-rutesheim.de
METHOD:PUBLISH
BEGIN:VTIMEZONE
TZID:Europe/Berlin
X-LIC-LOCATION:Europe/Berlin
BEGIN:DAYLIGHT
TZOFFSETFROM:+0100
TZOFFSETTO:+0200
TZNAME:CEST
DTSTART:19700329T020000
RRULE:FREQ=YEARLY;INTERVAL=1;BYDAY=-1SU;BYMONTH=3
END:DAYLIGHT
BEGIN:STANDARD
TZOFFSETFROM:+0200
TZOFFSETTO:+0100
TZNAME:CET
DTSTART:19701025T030000
RRULE:FREQ=YEARLY;INTERVAL=1;BYDAY=-1SU;BYMONTH=10
END:STANDARD
END:VTIMEZONE
BEGIN:VEVENT
UID:346694de90dd8bde27c4776271bced03@gruene-rutesheim.de
URL;VALUE=URI:https://gruene-rutesheim.de/termine/politik-und-pizza/
LOCATION:Rosa-Körner Stift, Raiffeisenstraße 9, Weissach
SUMMARY:Politik und Pizza
DESCRIPTION;ALTREP="data:text/html,%0A%3Cp%3EF%C3%BCr%20Erstw%C3%A4hler%3
 Ainnen%3C%2Fp%3E%0A%0A%0A%0A%3Cfigure%20class%3D%22wp-block-image%20size-
 large%22%3E%3Cimg%20src%3D%22https%3A%2F%2Fgruene-rutesheim.de%2Fwp-conte
 nt%2Fuploads%2F2024%2F05%2FScreenshot-2024-05-19-114910-1024x544.png%22%2
 0alt%3D%22%22%20class%3D%22wp-image-418%22%20%2F%3E%3C%2Ffigure%3E%0A":F
 ür Erstwähler:innen
CLASS:PUBLIC
DTSTART;TZID=Europe/Berlin:20240605T183000
DTEND;TZID=Europe/Berlin:20240605T203000
DTSTAMP:20260424T103140
END:VEVENT
END:VCALENDAR